BEGIN:VCALENDAR
VERSION:2.0
PRODID:-//jEvents 2.0 for Joomla//EN
CALSCALE:GREGORIAN
METHOD:PUBLISH
BEGIN:VTIMEZONE
TZID:Europe/Berlin
END:VTIMEZONE
BEGIN:VEVENT
UID:552a5d6da625d588b2620400e3410cea
CATEGORIES:Versammlung, Gemeinde
CREATED:20230214T113014
SUMMARY:Gemeinderatssitzung
LOCATION:Bürgerhaus Eßweiler
DESCRIPTION;ENCODING=QUOTED-PRINTABLE:Bekanntmachung\n\nAm Donnerstag, den 23. Februar 2023, 19:00 Uhr, findet im
  Dorfgemeinschaftshaus, Im Eck 3, eine Sitzung des Ortsgemeinderates E&szli
 g;weiler statt.\nTagesordnung:\n\n&Ouml;ffentlicher Teil\n1. Annahme oder V
 ermittlung von Spenden, Schenkungen und &auml;hnlichen Zuwendungen\n2. &Aum
 l;nderung der Benutzungsentgelte des Dorfgemeinschaftshauses\n3. Verschiede
 nes\n\n\n\nPeter Gilcher, Ortsb&uuml;rgermeister\n
DTSTAMP:20260419T144207Z
DTSTART;TZID=Europe/Berlin:20230223T190000
DTEND;TZID=Europe/Berlin:20230223T210000
SEQUENCE:0
TRANSP:OPAQUE
END:VEVENT
END:VCALENDAR