BEGIN:VCALENDAR
VERSION:2.0
PRODID:-//jEvents 2.0 for Joomla//EN
CALSCALE:GREGORIAN
METHOD:PUBLISH
BEGIN:VTIMEZONE
TZID:Europe/Berlin
END:VTIMEZONE
BEGIN:VEVENT
UID:e13c19d9bfa05a5d88078138712841cd
CATEGORIES:Versammlung, Gemeinde
CREATED:20230817T104152
SUMMARY:Gemeinderatssitzung
LOCATION:Bürgerhaus Eßweiler
DESCRIPTION;ENCODING=QUOTED-PRINTABLE:\n\nAm Donnerstag, den 24. August 2023, 19:00 Uhr, findet im Dorfgemeinscha
 ftshaus, Im Eck 3, eine Sitzung des Ortsgemeinderates E&szlig;weiler statt.
 \n\n\nTagesordnung:\n\n\nI. &Ouml;ffentlicher Teil\n\n\n1. Zustimmung zu de
 n beiden Fl&auml;chennutzungspl&auml;nen f&uuml;r f&uuml;nf Photovoltaik-Fr
 eifl&auml;chenanlagen und eine Gewerbefl&auml;che\n2. Hochwasservorsorgekon
 zept mit Starkregenmodul; Auftragsvergabe\n3. Teilnahme an der Sonder-B&uum
 l;ndelausschreibung Erdgas 2024/25\n4. Baumpflegearbeiten nach Baumpr&uuml;
 fung; Auftragsvergabe\n5. Anfragen und Ausk&uuml;nfte\n\n\nII. Nicht&ouml;f
 fentlicher Teil\n\n\n6. Anfragen und Ausk&uuml;nfte\n\n\nPeter Gilcher, Ort
 sb&uuml;rgermeister\n
DTSTAMP:20260424T150023Z
DTSTART;TZID=Europe/Berlin:20230824T190000
DTEND;TZID=Europe/Berlin:20230824T210000
SEQUENCE:0
TRANSP:OPAQUE
END:VEVENT
END:VCALENDAR