BEGIN:VCALENDAR
VERSION:2.0
PRODID:-//jEvents 2.0 for Joomla//EN
CALSCALE:GREGORIAN
METHOD:PUBLISH
BEGIN:VTIMEZONE
TZID:Europe/Berlin
END:VTIMEZONE
BEGIN:VEVENT
UID:870631a856beddee2d4e5ff2ddaee726
CATEGORIES:Veranstaltungen
CREATED:20230925T120540
SUMMARY:Kerwe
LOCATION:Kerweplatz
DESCRIPTION;ENCODING=QUOTED-PRINTABLE:\n\n\n
DTSTAMP:20260422T095625Z
DTSTART;TZID=Europe/Berlin;VALUE=DATE:20231006
DTEND;TZID=Europe/Berlin;VALUE=DATE:20231010
SEQUENCE:0
TRANSP:OPAQUE
END:VEVENT
END:VCALENDAR