BEGIN:VCALENDAR
VERSION:2.0
PRODID:-//jEvents 2.0 for Joomla//EN
CALSCALE:GREGORIAN
METHOD:PUBLISH
BEGIN:VTIMEZONE
TZID:Europe/Berlin
BEGIN:STANDARD
DTSTART:20190312T190000
RDATE:20190331T030000
TZOFFSETFROM:+0200
TZOFFSETTO:+0100
TZNAME:Europe/Berlin CET
END:STANDARD
BEGIN:STANDARD
DTSTART:20191027T020000
RDATE:20200329T030000
TZOFFSETFROM:+0200
TZOFFSETTO:+0100
TZNAME:Europe/Berlin CET
END:STANDARD
BEGIN:STANDARD
DTSTART:20201025T020000
RDATE:20210328T030000
TZOFFSETFROM:+0200
TZOFFSETTO:+0100
TZNAME:Europe/Berlin CET
END:STANDARD
BEGIN:DAYLIGHT
DTSTART:20190331T030000
RDATE:20191027T020000
TZOFFSETFROM:+0100
TZOFFSETTO:+0200
TZNAME:Europe/Berlin CEST
END:DAYLIGHT
BEGIN:DAYLIGHT
DTSTART:20200329T030000
RDATE:20201025T020000
TZOFFSETFROM:+0100
TZOFFSETTO:+0200
TZNAME:Europe/Berlin CEST
END:DAYLIGHT
END:VTIMEZONE
BEGIN:VEVENT
UID:7b06851f1950779a2d71843ba1573ba9
CATEGORIES:Gemeinde
CREATED:20200305T082745
SUMMARY:Gemeinderatssitzung
LOCATION:Bürgerhaus Eßweiler
DESCRIPTION;ENCODING=QUOTED-PRINTABLE:\n\nAm Donnerstag, den 12. M&auml;rz 2020, 19:00 Uhr, findet im Dorfgemeins
 chaftshaus, Im Eck 3, eine Sitzung des Ortsgemeinderates E&szlig;weiler sta
 tt.\n\n\n&nbsp;\n\n\nTagesordnung:\n\n\nI. &Ouml;ffentlicher Teil\n\n\n1. E
 inwohnerfragestunde\n2. Haushaltssatzung und Haushaltsplan f&uuml;r die Hau
 shaltsjahre 2020/2021\n3. Feldwegebauma&szlig;nahme\n3.1 Wassereinlass &bdq
 uo;Am Hilzel&ldquo;\n3.2 Wirtschaftsweg &bdquo;In der H&ouml;ll / Kotten&au
 ml;cker&ldquo; - Weitere Vorgehensweise\n4. Anfragen und Ausk&uuml;nfte\n\n
 \n\nII. Nicht&ouml;ffentlicher Teil\n\n\n5. Anfragen und Ausk&uuml;nfte\n\n
 \n\nPeter Gilcher, Ortsb&uuml;rgermeister\n
DTSTAMP:20260422T011841Z
DTSTART;TZID=Europe/Berlin:20200312T190000
DTEND;TZID=Europe/Berlin:20200312T210000
SEQUENCE:0
TRANSP:OPAQUE
END:VEVENT
END:VCALENDAR